BEGIN:VCALENDAR
VERSION:2.0
PRODID:icalendar-ruby
CALSCALE:GREGORIAN
METHOD:PUBLISH
BEGIN:VEVENT
DTSTAMP:20260422T224241Z
UID:5-509968@afceden.org
DTSTART:20260920T163000Z
DTEND:20260920T190000Z
CLASS:PUBLIC
CREATED:20260422T140140
DESCRIPTION:Sunday Worship
LAST-MODIFIED:20260422T140140
LOCATION:
SUMMARY:Sunday Worship Service
URL;VALUE=URI:https://www.afceden.org/events/sunday-worship-service/2026-09
 -20
END:VEVENT
END:VCALENDAR
