BEGIN:VCALENDAR
VERSION:2.0
PRODID:icalendar-ruby
CALSCALE:GREGORIAN
METHOD:PUBLISH
BEGIN:VEVENT
DTSTAMP:20260423T014043Z
UID:5-510348@afceden.org
DTSTART:20261004T163000Z
DTEND:20261004T190000Z
CLASS:PUBLIC
CREATED:20260422T165324
DESCRIPTION:Sunday Worship
LAST-MODIFIED:20260422T165324
LOCATION:
SUMMARY:Sunday Worship Service
URL;VALUE=URI:https://www.afceden.org/events/sunday-worship-service/2026-10
 -04
END:VEVENT
END:VCALENDAR
