BEGIN:VCALENDAR
VERSION:2.0
PRODID:icalendar-ruby
CALSCALE:GREGORIAN
METHOD:PUBLISH
BEGIN:VEVENT
DTSTAMP:20260423T064626Z
UID:5-510730@afceden.org
DTSTART:20261101T173000Z
DTEND:20261101T200000Z
CLASS:PUBLIC
CREATED:20260422T194722
DESCRIPTION:Sunday Worship
LAST-MODIFIED:20260422T194722
LOCATION:
SUMMARY:Sunday Worship Service
URL;VALUE=URI:https://www.afceden.org/events/sunday-worship-service/2026-11
 -01
END:VEVENT
END:VCALENDAR
